BEGIN:VCALENDAR
VERSION:2.0
PRODID:-//Custom Hand-Painted Signs &amp; Wall Galleries - ECPv6.15.20//NONSGML v1.0//EN
CALSCALE:GREGORIAN
METHOD:PUBLISH
X-WR-CALNAME:Custom Hand-Painted Signs &amp; Wall Galleries
X-ORIGINAL-URL:https://glowingginger.com
X-WR-CALDESC:Events for Custom Hand-Painted Signs &amp; Wall Galleries
REFRESH-INTERVAL;VALUE=DURATION:PT1H
X-Robots-Tag:noindex
X-PUBLISHED-TTL:PT1H
BEGIN:VTIMEZONE
TZID:America/Toronto
BEGIN:DAYLIGHT
TZOFFSETFROM:-0500
TZOFFSETTO:-0400
TZNAME:EDT
DTSTART:20160313T070000
END:DAYLIGHT
BEGIN:STANDARD
TZOFFSETFROM:-0400
TZOFFSETTO:-0500
TZNAME:EST
DTSTART:20161106T060000
END:STANDARD
BEGIN:DAYLIGHT
TZOFFSETFROM:-0500
TZOFFSETTO:-0400
TZNAME:EDT
DTSTART:20170312T070000
END:DAYLIGHT
BEGIN:STANDARD
TZOFFSETFROM:-0400
TZOFFSETTO:-0500
TZNAME:EST
DTSTART:20171105T060000
END:STANDARD
BEGIN:DAYLIGHT
TZOFFSETFROM:-0500
TZOFFSETTO:-0400
TZNAME:EDT
DTSTART:20180311T070000
END:DAYLIGHT
BEGIN:STANDARD
TZOFFSETFROM:-0400
TZOFFSETTO:-0500
TZNAME:EST
DTSTART:20181104T060000
END:STANDARD
BEGIN:DAYLIGHT
TZOFFSETFROM:-0500
TZOFFSETTO:-0400
TZNAME:EDT
DTSTART:20190310T070000
END:DAYLIGHT
BEGIN:STANDARD
TZOFFSETFROM:-0400
TZOFFSETTO:-0500
TZNAME:EST
DTSTART:20191103T060000
END:STANDARD
END:VTIMEZONE
BEGIN:VEVENT
DTSTART;TZID=America/Toronto:20180116T080000
DTEND;TZID=America/Toronto:20180116T170000
DTSTAMP:20260422T190441
CREATED:20180116T200212Z
LAST-MODIFIED:20180116T200212Z
UID:2963-1516089600-1516122000@glowingginger.com
SUMMARY:
DESCRIPTION:Join me for a fun night of socializing and creativity. I will supply all the materials and instruction for you to paint your own custom wood sign or rustic tray. A monogram style sign or simple text work best for the writing. \nYour painting choices include:\n20 x 17″ sign\, 13×24″ sign\, 20 x 11″ single board sign or a 24×13″ rustic tray \nTo Register:\n1. Fill out the contact form below.\n2. An email will be sent to you with an email address for your e-transfer payment.
URL:https://glowingginger.com/event/2963/
LOCATION:Ontario
END:VEVENT
BEGIN:VEVENT
DTSTART;TZID=America/Toronto:20171218T190000
DTEND;TZID=America/Toronto:20171218T220000
DTSTAMP:20260422T190441
CREATED:20171108T141845Z
LAST-MODIFIED:20171108T142346Z
UID:2921-1513623600-1513634400@glowingginger.com
SUMMARY:Private workshop - organized by Suzanne Conner
DESCRIPTION:
URL:https://glowingginger.com/event/private-workshop-organizer-suzanne-conner/
LOCATION:Ontario
END:VEVENT
BEGIN:VEVENT
DTSTART;TZID=America/Toronto:20171217T160000
DTEND;TZID=America/Toronto:20171217T190000
DTSTAMP:20260422T190441
CREATED:20171105T141451Z
LAST-MODIFIED:20171108T143821Z
UID:2911-1513526400-1513537200@glowingginger.com
SUMMARY:Private Birthday Party
DESCRIPTION:Join me for a fun night of socializing and creativity. I will supply all the materials and instruction for you to paint your own custom wood sign or rustic tray. A monogram style sign or simple text work best for the writing. \nYour painting choices include:\n20 x 17″ sign\, 13×24″ sign\, 20 x 11″ single board sign or a 24×13″ rustic tray \nTo Register:\n1. Fill out the contact form below.\n2. An email will be sent to you with an email address for your e-transfer payment.
URL:https://glowingginger.com/event/private-birthday-party/
LOCATION:482 Ontario Street\, Newmarket\, ON\, 482 Ontario Street\, Newmarket\, Ontario\, L3Y 2K7\, Canada
END:VEVENT
BEGIN:VEVENT
DTSTART;TZID=America/Toronto:20171215T190000
DTEND;TZID=America/Toronto:20171215T220000
DTSTAMP:20260422T190441
CREATED:20171207T032405Z
LAST-MODIFIED:20171207T032405Z
UID:2951-1513364400-1513375200@glowingginger.com
SUMMARY:Private Workshop - Organized by Kelly Garbe
DESCRIPTION:I’m looking forward to meeting the Run Girls! We will be making a special project for your class.\nA 30″ JOY sign or table centrepiece with the word GATHER. Just let me know your choice when you register.\nTo Register:\n1. Fill out the contact form below.\n2. An email will be sent to you with email address for you to e-transfer payment.
URL:https://glowingginger.com/event/private-workshop-organized-by-kelly-garbe/
LOCATION:482 Ontario Street\, Newmarket\, ON\, 482 Ontario Street\, Newmarket\, Ontario\, L3Y 2K7\, Canada
END:VEVENT
BEGIN:VEVENT
DTSTART;TZID=America/Toronto:20171215T110000
DTEND;TZID=America/Toronto:20171215T130000
DTSTAMP:20260422T190441
CREATED:20171201T170002Z
LAST-MODIFIED:20171201T170002Z
UID:2944-1513335600-1513342800@glowingginger.com
SUMMARY:Private Birthday Party - organized by Rose Castronovo
DESCRIPTION:Join me for a fun morning of socializing and creativity. I will supply all the materials and instruction for you to paint your own custom wood sign or rustic tray. A monogram style sign or simple text work best for the writing. \nYour painting choices include:\n20 x 17″ sign\, 13×24″ sign\, 20 x 11″ single board sign or a 24×13″ rustic tray \nTo Register:\n1. Fill out the contact form below.\n2. An email will be sent to you with an email address for your e-transfer payment.
URL:https://glowingginger.com/event/private-birthday-party-organized-by-rose-castronovo/
LOCATION:482 Ontario Street\, Newmarket\, ON\, 482 Ontario Street\, Newmarket\, Ontario\, L3Y 2K7\, Canada
END:VEVENT
BEGIN:VEVENT
DTSTART;TZID=America/Toronto:20171214T180000
DTEND;TZID=America/Toronto:20171214T210000
DTSTAMP:20260422T190441
CREATED:20171202T190054Z
LAST-MODIFIED:20171202T190054Z
UID:2947-1513274400-1513285200@glowingginger.com
SUMMARY:Private Kid's Workshop - I Dance Studio
DESCRIPTION:I’m excited to have your dance studio join me for a night of fun and creativity!\nYou can choose from 2 different projects.  \nA 5.5 x 24″ board with clips for photos or art with the words “Just Dance”\n or a 15.5 x 18″ sign with their names. \nTo Register:\n1. Fill out the contact form below.\n2. An email will be sent to you with an email address for your e-transfer payment.
URL:https://glowingginger.com/event/private-kids-workshop-i-dance-studio/
LOCATION:482 Ontario Street\, Newmarket\, ON\, 482 Ontario Street\, Newmarket\, Ontario\, L3Y 2K7\, Canada
END:VEVENT
BEGIN:VEVENT
DTSTART;TZID=America/Toronto:20171211T190000
DTEND;TZID=America/Toronto:20171211T220000
DTSTAMP:20260422T190441
CREATED:20171112T125800Z
LAST-MODIFIED:20171112T125800Z
UID:2931-1513018800-1513029600@glowingginger.com
SUMMARY:Private Workshop - Organized by Tara Scott
DESCRIPTION:Join me for a fun night of socializing and creativity. I will supply all the materials and instruction for you to paint your own custom wood sign or rustic tray. A monogram style or simple text work best for the writing. \nYour painting choice include: \n20 x 17″ sign\, 24 x 13″ sign\, 20 x 11″ single board sign or a rustic tray \nTo Register:\n1. Fill out the contact form below.\n2. An email will be sent to you with an email address for your e-transfer payment.
URL:https://glowingginger.com/event/private-workshop-organized-by-tara-scott/
LOCATION:482 Ontario Street\, Newmarket\, ON\, 482 Ontario Street\, Newmarket\, Ontario\, L3Y 2K7\, Canada
END:VEVENT
BEGIN:VEVENT
DTSTART;TZID=America/Toronto:20171207T190000
DTEND;TZID=America/Toronto:20171207T220000
DTSTAMP:20260422T190441
CREATED:20171105T141320Z
LAST-MODIFIED:20171109T025826Z
UID:2909-1512673200-1512684000@glowingginger.com
SUMMARY:Private Workshop - organized by Leslie Holden
DESCRIPTION:Join me for a fun night of socializing and creativity. I will supply all the materials and instruction for you to paint your own custom wood sign or rustic tray. A monogram style sign or simple text work best for the writing. \nYour painting choices include:\n20 x 17″ sign\, 13×24″ sign\, 20 x 11″ single board sign or a 24×13″ rustic tray \nTo Register:\n1. Fill out the contact form below.\n2. An email will be sent to you with an email address for your e-transfer payment.
URL:https://glowingginger.com/event/workshop-organized-by-leslie-holden/
LOCATION:482 Ontario Street\, Newmarket\, ON\, 482 Ontario Street\, Newmarket\, Ontario\, L3Y 2K7\, Canada
END:VEVENT
BEGIN:VEVENT
DTSTART;TZID=America/Toronto:20171204T190000
DTEND;TZID=America/Toronto:20171204T220000
DTSTAMP:20260422T190441
CREATED:20171104T132706Z
LAST-MODIFIED:20171201T165016Z
UID:2891-1512414000-1512424800@glowingginger.com
SUMMARY:Get your Jingle on - Holiday trio workshop - Open to the public - Full
DESCRIPTION:Get ready for Christmas with this Holiday trio package! We will make 3 projects in one workshop –  3ft porch sign\, rustic ribbon star and the snowflake block trio!! Make them for gifts or keep them for yourself! (you are going to want to keep them!) Grab a friend and join me for this fun night out.
URL:https://glowingginger.com/event/get-your-jingle-on-holiday-trio-workshop/
LOCATION:482 Ontario Street\, Newmarket\, ON\, 482 Ontario Street\, Newmarket\, Ontario\, L3Y 2K7\, Canada
ATTACH;FMTTYPE=image/jpeg:https://glowingginger.com/wp-content/uploads/2017/10/Christmas-trio.jpg
END:VEVENT
BEGIN:VEVENT
DTSTART;TZID=America/Toronto:20171203T100000
DTEND;TZID=America/Toronto:20171203T130000
DTSTAMP:20260422T190441
CREATED:20171101T020557Z
LAST-MODIFIED:20171108T142115Z
UID:2874-1512295200-1512306000@glowingginger.com
SUMMARY:Get your Jingle on - Holiday trio workshop - Open to the public - FULL
DESCRIPTION:Get ready for Christmas with this Holiday trio package! We will make 3 projects in one workshop –   3ft porch sign\, rustic ribbon star and the snowflake block trio!! Make them for gifts or keep them for yourself! (you are going to want to keep them!) Grab a friend\, join me for coffee and let’s get our Jingle on! 🙂
URL:https://glowingginger.com/event/get-your-jingle-on-holiday-project-night/
LOCATION:482 Ontario Street\, Newmarket\, ON\, 482 Ontario Street\, Newmarket\, Ontario\, L3Y 2K7\, Canada
ATTACH;FMTTYPE=image/jpeg:https://glowingginger.com/wp-content/uploads/2017/10/Christmas-trio.jpg
END:VEVENT
BEGIN:VEVENT
DTSTART;TZID=America/Toronto:20171201T190000
DTEND;TZID=America/Toronto:20171201T220000
DTSTAMP:20260422T190441
CREATED:20171108T141604Z
LAST-MODIFIED:20171124T142407Z
UID:2919-1512154800-1512165600@glowingginger.com
SUMMARY:Public Workshop - FULL
DESCRIPTION:
URL:https://glowingginger.com/event/public-workshop-2/
LOCATION:482 Ontario Street\, Newmarket\, ON\, 482 Ontario Street\, Newmarket\, Ontario\, L3Y 2K7\, Canada
END:VEVENT
BEGIN:VEVENT
DTSTART;TZID=America/Toronto:20171130T190000
DTEND;TZID=America/Toronto:20171130T220000
DTSTAMP:20260422T190441
CREATED:20171105T140900Z
LAST-MODIFIED:20171112T125947Z
UID:2904-1512068400-1512079200@glowingginger.com
SUMMARY:Private Workshop - organized by Adela Minor
DESCRIPTION:Join me for a fun night of socializing and creativity. I will supply all the materials and instruction for you to paint your own custom wood sign or rustic tray. A monogram style sign or simple text work best for the writing. \nYour painting choices include:\n20 x 17″ sign\, 13×24″ sign\, 20 x 11″ single board sign or a 24×13″ rustic tray \nTo Register:\n1. Fill out the contact form below.\n2. An email will be sent to you with an email address for your e-transfer payment.
URL:https://glowingginger.com/event/workshop-organized-by-adela-minor/
LOCATION:482 Ontario Street\, Newmarket\, ON\, 482 Ontario Street\, Newmarket\, Ontario\, L3Y 2K7\, Canada
END:VEVENT
BEGIN:VEVENT
DTSTART;TZID=America/Toronto:20171120T190000
DTEND;TZID=America/Toronto:20171120T220000
DTSTAMP:20260422T190441
CREATED:20171108T141336Z
LAST-MODIFIED:20171108T142435Z
UID:2917-1511204400-1511215200@glowingginger.com
SUMMARY:Private Workshop - Organized by Lori Fisher
DESCRIPTION:Private workshop – organized by Lori Fisher \nIf you are making a reversible porch sign the cost is $95. I will stain your board a dark walnut so you can spend your time painting.  I just need to know the words you want to paint.  Noel\, Hello Fall\, Hello Spring\, Welcome\, trick or treat\, etc.
URL:https://glowingginger.com/event/private-workshop-organizer-lori-fisher/
LOCATION:482 Ontario Street\, Newmarket\, ON\, 482 Ontario Street\, Newmarket\, Ontario\, L3Y 2K7\, Canada
END:VEVENT
BEGIN:VEVENT
DTSTART;TZID=America/Toronto:20171118T180000
DTEND;TZID=America/Toronto:20171118T210000
DTSTAMP:20260422T190441
CREATED:20171105T140726Z
LAST-MODIFIED:20171112T125916Z
UID:2901-1511028000-1511038800@glowingginger.com
SUMMARY:Private Workshop - organized by Sarah Hurst
DESCRIPTION:Join me for a fun night of socializing and creativity. I will supply all the materials and instruction for you to paint your own custom wood sign or rustic tray. A monogram style sign or simple text work best for the writing. \nYour painting choices include:\n20 x 17″ sign\, 13×24″ sign\, 20 x 11″ single board sign or a 24×13″ rustic tray \nTo Register:\n1. Fill out the contact form below.\n2. An email will be sent to you with an email address for your e-transfer payment.
URL:https://glowingginger.com/event/workshop-organized-by-sarah-hurst/
LOCATION:482 Ontario Street\, Newmarket\, ON\, 482 Ontario Street\, Newmarket\, Ontario\, L3Y 2K7\, Canada
END:VEVENT
BEGIN:VEVENT
DTSTART;TZID=America/Toronto:20171116T190000
DTEND;TZID=America/Toronto:20171116T220000
DTSTAMP:20260422T190441
CREATED:20171105T140542Z
LAST-MODIFIED:20171112T130025Z
UID:2899-1510858800-1510869600@glowingginger.com
SUMMARY:Private Workshop - organized by Daniela Mallinos
DESCRIPTION:Join me for a fun night of socializing and creativity. I will supply all the materials and instruction for you to paint your own custom wood sign or rustic tray. A monogram style sign or simple text work best for the writing. \nYour painting choices include:\n20 x 17″ sign\, 13×24″ sign\, 20 x 11″ single board sign or a 24×13″ rustic tray
URL:https://glowingginger.com/event/workshop-organized-by-daniela-mallinos/
LOCATION:482 Ontario Street\, Newmarket\, ON\, 482 Ontario Street\, Newmarket\, Ontario\, L3Y 2K7\, Canada
END:VEVENT
BEGIN:VEVENT
DTSTART;TZID=America/Toronto:20171113T190000
DTEND;TZID=America/Toronto:20171113T220000
DTSTAMP:20260422T190441
CREATED:20171105T140355Z
LAST-MODIFIED:20171111T131202Z
UID:2897-1510599600-1510610400@glowingginger.com
SUMMARY:Public Workshop
DESCRIPTION:Join me for a fun night of socializing and creativity. I will supply all the materials and instruction for you to paint your own custom wood sign or rustic tray. A monogram style sign or simple text work best for the writing. \nYour painting choices include:\n20 x 17″ sign\, 13×24″ sign\, 20 x 11″ single board sign or a 24×13″ rustic tray
URL:https://glowingginger.com/event/public-workshop-organized-by-laurel-cutting/
LOCATION:482 Ontario Street\, Newmarket\, ON\, 482 Ontario Street\, Newmarket\, Ontario\, L3Y 2K7\, Canada
END:VEVENT
END:VCALENDAR