BEGIN:VCALENDAR
VERSION:2.0
PRODID:-//Custom Hand-Painted Signs &amp; Wall Galleries - ECPv6.15.20//NONSGML v1.0//EN
CALSCALE:GREGORIAN
METHOD:PUBLISH
X-ORIGINAL-URL:https://glowingginger.com
X-WR-CALDESC:Events for Custom Hand-Painted Signs &amp; Wall Galleries
REFRESH-INTERVAL;VALUE=DURATION:PT1H
X-Robots-Tag:noindex
X-PUBLISHED-TTL:PT1H
BEGIN:VTIMEZONE
TZID:America/Toronto
BEGIN:DAYLIGHT
TZOFFSETFROM:-0500
TZOFFSETTO:-0400
TZNAME:EDT
DTSTART:20200308T070000
END:DAYLIGHT
BEGIN:STANDARD
TZOFFSETFROM:-0400
TZOFFSETTO:-0500
TZNAME:EST
DTSTART:20201101T060000
END:STANDARD
BEGIN:DAYLIGHT
TZOFFSETFROM:-0500
TZOFFSETTO:-0400
TZNAME:EDT
DTSTART:20210314T070000
END:DAYLIGHT
BEGIN:STANDARD
TZOFFSETFROM:-0400
TZOFFSETTO:-0500
TZNAME:EST
DTSTART:20211107T060000
END:STANDARD
BEGIN:DAYLIGHT
TZOFFSETFROM:-0500
TZOFFSETTO:-0400
TZNAME:EDT
DTSTART:20220313T070000
END:DAYLIGHT
BEGIN:STANDARD
TZOFFSETFROM:-0400
TZOFFSETTO:-0500
TZNAME:EST
DTSTART:20221106T060000
END:STANDARD
BEGIN:DAYLIGHT
TZOFFSETFROM:-0500
TZOFFSETTO:-0400
TZNAME:EDT
DTSTART:20230312T070000
END:DAYLIGHT
BEGIN:STANDARD
TZOFFSETFROM:-0400
TZOFFSETTO:-0500
TZNAME:EST
DTSTART:20231105T060000
END:STANDARD
BEGIN:DAYLIGHT
TZOFFSETFROM:-0500
TZOFFSETTO:-0400
TZNAME:EDT
DTSTART:20240310T070000
END:DAYLIGHT
BEGIN:STANDARD
TZOFFSETFROM:-0400
TZOFFSETTO:-0500
TZNAME:EST
DTSTART:20241103T060000
END:STANDARD
BEGIN:DAYLIGHT
TZOFFSETFROM:-0500
TZOFFSETTO:-0400
TZNAME:EDT
DTSTART:20250309T070000
END:DAYLIGHT
BEGIN:STANDARD
TZOFFSETFROM:-0400
TZOFFSETTO:-0500
TZNAME:EST
DTSTART:20251102T060000
END:STANDARD
END:VTIMEZONE
BEGIN:VEVENT
DTSTART;TZID=America/Toronto:20211118T190000
DTEND;TZID=America/Toronto:20211118T220000
DTSTAMP:20260424T233222
CREATED:20211111T151347Z
LAST-MODIFIED:20211111T151347Z
UID:9025-1637262000-1637272800@glowingginger.com
SUMMARY:Sandra's Birthday Workshop
DESCRIPTION:It’s Sandra’s Birthday! Yay! Let’s paint! Join Sandra and friends for a fun evening of painting and celebrating! All the materials and instruction needed for you to paint your own custom wood sign or rustic tray will be provided. A monogram style sign or simple text works best. \nYour painting choices include:\n20 x 17″ sign\, 13×24″ sign\, 14 x 22″ single board\, framed sign or a 24×13″ rustic tray \nTo Register:\n1. Fill out the contact form below.
URL:https://glowingginger.com/event/sandras-birthday-workshop/
LOCATION:Sandra’s Business\, 27 King Street North\, Cookstown\, ON
ATTACH;FMTTYPE=image/jpeg:https://glowingginger.com/wp-content/uploads/2021/10/ED6E7E8D-DCF4-45A8-9196-6ED5AB1D73FF.jpeg
END:VEVENT
BEGIN:VEVENT
DTSTART;TZID=America/Toronto:20211121T130000
DTEND;TZID=America/Toronto:20211121T160000
DTSTAMP:20260424T233222
CREATED:20211028T171250Z
LAST-MODIFIED:20211109T124341Z
UID:9013-1637499600-1637510400@glowingginger.com
SUMMARY:Hana's Birthday Workshop
DESCRIPTION:It’s Hana’s birthday! Yay! Let’s Paint!\nJoin your friends for a fun afternoon of socializing and creativity. I will supply all the materials and instruction for you to paint your own custom wood sign or rustic tray. A monogram style sign or simple text works best. \nYour painting choices include:\n20 x 17″ sign\, 13×24″ sign\, 14 x 22″ single board\, framed sign or a 24×13″ rustic tray \nTo Register:\n1. Fill out the contact form below.
URL:https://glowingginger.com/event/hannahs-birthday-workshop/
ATTACH;FMTTYPE=image/jpeg:https://glowingginger.com/wp-content/uploads/2021/10/ED6E7E8D-DCF4-45A8-9196-6ED5AB1D73FF.jpeg
END:VEVENT
BEGIN:VEVENT
DTSTART;TZID=America/Toronto:20211127T110000
DTEND;TZID=America/Toronto:20211127T160000
DTSTAMP:20260424T233222
CREATED:20211028T172607Z
LAST-MODIFIED:20211028T172723Z
UID:9015-1638010800-1638028800@glowingginger.com
SUMMARY:Market Brewing Company Christmas Market
DESCRIPTION:Shop local and Come see us at the Christmas outdoor market!\nNovember 27th\n11am-4pm \nOver 20 artisans and vendors\nThe event is free with a non-perishable donation for our friends  at the Newmarket Food Pantry.\nSee you there!!! 🙂
URL:https://glowingginger.com/event/market-brewing-company-christmas-market/
LOCATION:Market Brewing Company\, 17775 Leslie Stree\, Newmarket\, ON\, Canada
END:VEVENT
BEGIN:VEVENT
DTSTART;TZID=America/Toronto:20211130T140000
DTEND;TZID=America/Toronto:20211130T170000
DTSTAMP:20260424T233222
CREATED:20211028T163935Z
LAST-MODIFIED:20211029T125011Z
UID:9008-1638280800-1638291600@glowingginger.com
SUMMARY:FYI Doctors Holiday Party
DESCRIPTION:Join your coworkers for a fun afternoon of socializing and creativity. I will supply all the materials and instruction for you to paint your own custom wood sign or rustic tray. A monogram style sign or simple text works best. \nYour painting choices include:\n20 x 17″ sign\, 13×24″ sign\, 14 x 22″ single board\, 23′ x 15′ framed sign\, 36 x 9″ porch sign\,  24″ x 10″ framed sign or a 24×13″ rustic tray \nTo Register:\n1. Fill out the contact form below with your sign choice and wording.
URL:https://glowingginger.com/event/fyi-doctors-holiday-party/
ATTACH;FMTTYPE=image/jpeg:https://glowingginger.com/wp-content/uploads/2021/10/ED6E7E8D-DCF4-45A8-9196-6ED5AB1D73FF.jpeg
END:VEVENT
BEGIN:VEVENT
DTSTART;TZID=America/Toronto:20211206T190000
DTEND;TZID=America/Toronto:20211206T220000
DTSTAMP:20260424T233222
CREATED:20211120T130549Z
LAST-MODIFIED:20211120T133034Z
UID:9031-1638817200-1638828000@glowingginger.com
SUMMARY:Private Holiday Workshop at Andrea's
DESCRIPTION:Come out and join Heather & Andrea for a much needed night of creativity and fun. All the materials and instruction will be provided for you to complete your project. Choose from 4 different holiday projects to paint: \n1. A rustic Holiday Sleigh with the words\, “Dashing through the Snow”. This adorable sleigh is 28″ x 10′ and  comes with ribbon and greenery. It’s a perfect addition to your indoor or outdoor decor.  $90 (+Hst) \n2. EAT DRINK & Be Merry reindeer sign (13″ x 12″) $60 (+HST) \n3. JOY\, LOVE\, PEACE…Christmas sign (12″ x 24″) $60 (+HST) \n4. Gnome porch sign ( 36″ x 10″) $90 (+HST) \n Just type your selection on the registration form. 🙂\nTo Register:\n1. Fill out the contact form below.\n2. An email will be sent to you with an email address for your e-transfer payment.
URL:https://glowingginger.com/event/private-holiday-workshop-at-andreas/
LOCATION:Andrea’s Place\, 18275 Keele Street\, Newmarket\, ON\, L3Y4V9\, Canada
ATTACH;FMTTYPE=image/jpeg:https://glowingginger.com/wp-content/uploads/2021/11/1ABD2C5F-6A0F-47DE-AB1E-7E4B580612B3.jpeg
END:VEVENT
BEGIN:VEVENT
DTSTART;TZID=America/Toronto:20231205T190000
DTEND;TZID=America/Toronto:20231205T220000
DTSTAMP:20260424T233222
CREATED:20231026T201332Z
LAST-MODIFIED:20231026T201712Z
UID:9051-1701802800-1701813600@glowingginger.com
SUMMARY:Karm's Private Holiday Workshop
DESCRIPTION:Cheers! Please join us for a Holiday painting workshop and festivities.\nSelect from 3 holiday project choices.\n1. Let it snow – snowman porch sign (32″ x 10″) $85 + hst\n2. Merry Christmas wood blocks $55 + hst\n3. Warm and Cozy sign $50 +hst  \nJust type your selection on the registration form. 🙂\nTo Register:\n1. Fill out the contact form below.\n2. An email will be sent to you with an email address for your e-transfer payment.
URL:https://glowingginger.com/event/karms-private-holiday-workshop/
LOCATION:Winmar Newmarket\, 1208 Gorham\, Unit 12/13\, Newmarket\, Ontario\, Canada
ATTACH;FMTTYPE=image/jpeg:https://glowingginger.com/wp-content/uploads/2023/10/IMG_2413.jpeg
END:VEVENT
BEGIN:VEVENT
DTSTART;TZID=America/Toronto:20241003T190000
DTEND;TZID=America/Toronto:20241003T210000
DTSTAMP:20260424T233222
CREATED:20240911T155500Z
LAST-MODIFIED:20240911T175936Z
UID:9064-1727982000-1727989200@glowingginger.com
SUMMARY:Farm Fresh Pumpkins & Blocks - Public Workshop @ Replenish General Store
DESCRIPTION:Yee-Haw! It’s time for our fall workshop! Join us for a fun evening of creativity and socializing.This event will be held inside the Replenish General Store.  All the materials and instruction with be included to paint your own “Farm Fresh Pumpkins” wood sign (20″x 10″size) and 3 double-sided wood blocks. You will have the option to customize the paint colours.\nSee you soon! \nKimberly
URL:https://glowingginger.com/event/farm-fresh-pumpkins-blocks-public-workshop-replenish-general-store/
LOCATION:Replenish General Store\, 208 Main Street S.\, Newmarket\, ON\, L3Y3Z3\, Canada
ATTACH;FMTTYPE=image/jpeg:https://glowingginger.com/wp-content/uploads/2024/09/IMG_6937.jpg
END:VEVENT
BEGIN:VEVENT
DTSTART;TZID=America/Toronto:20241118T183000
DTEND;TZID=America/Toronto:20241118T210000
DTSTAMP:20260424T233222
CREATED:20241023T155547Z
LAST-MODIFIED:20241023T160923Z
UID:9082-1731954600-1731963600@glowingginger.com
SUMMARY:Christmas Tree Sign  - Public Workshop
DESCRIPTION:Market Brewing Company’s Signs & Pints is back!\nJoin us for a fun night of creativity and socializing! Paint this festive Christmas Tree and add your own colour choices and details. This adorable wood sign will be a lasting Holiday decor item you can enjoy for many years to come. \nMeasures 32″ x 10.5″\nPrice $85 \nTickets for this workshop sold at marketbrewingco.com
URL:https://glowingginger.com/event/christmas-tree-sign-public-workshop/
LOCATION:Market Brewing Company\, 17775 Leslie Stree\, Newmarket\, ON\, Canada
ATTACH;FMTTYPE=image/jpeg:https://glowingginger.com/wp-content/uploads/2024/10/E8468F2E-C7F9-42F6-BEA1-82FFE7D94B6A-scaled.jpeg
END:VEVENT
BEGIN:VEVENT
DTSTART;TZID=America/Toronto:20241127T103000
DTEND;TZID=America/Toronto:20241127T130000
DTSTAMP:20260424T233222
CREATED:20241119T171356Z
LAST-MODIFIED:20241119T183707Z
UID:9099-1732703400-1732712400@glowingginger.com
SUMMARY:Holiday Workshop - Public
DESCRIPTION:Join us for a fun morning of painting and creativity! All the materials and instruction provided to paint your own festive Holiday Sign.\nSelect from 4 holiday project choices.(32″ x 10″) $85\n1. Let it snow – snowman\n2. Gnome\n3. Christmas Tree\n4. Nutcracker \nTo Register:\n1. Fill out the contact form below and let me know your project choice.\n2. Please email payment to kimberly.silvestri@gmail.com\nConfirmation email will be sent 🙂
URL:https://glowingginger.com/event/holiday-workshop-public/
LOCATION:Replenish General Store\, 208 Main Street S.\, Newmarket\, ON\, L3Y3Z3\, Canada
ATTACH;FMTTYPE=image/png:https://glowingginger.com/wp-content/uploads/2024/11/Untitled-design-1.png
END:VEVENT
BEGIN:VEVENT
DTSTART;TZID=America/Toronto:20241127T190000
DTEND;TZID=America/Toronto:20241127T220000
DTSTAMP:20260424T233222
CREATED:20241023T205858Z
LAST-MODIFIED:20241023T213446Z
UID:9090-1732734000-1732744800@glowingginger.com
SUMMARY:Notre Dame Council Private Workshop
DESCRIPTION:Cheers! Please join us for a Holiday painting workshop and festivities.\nSelect from 2 holiday project choices.\n1. Let it snow – snowman porch sign (32″ x 10″) $85\n2. Gnome porch sign (32″ x 10″) $85 \nTo Register:\n1. Fill out the contact form below and let me know your project choice.\n2. Please email payment to kimberly.silvestri@gmail.com
URL:https://glowingginger.com/event/notre-dame-council-private-workshop/
LOCATION:Replenish General Store\, 208 Main Street S.\, Newmarket\, ON\, L3Y3Z3\, Canada
ATTACH;FMTTYPE=image/jpeg:https://glowingginger.com/wp-content/uploads/2024/10/IMG_7624.jpg
END:VEVENT
BEGIN:VEVENT
DTSTART;TZID=America/Toronto:20241206T190000
DTEND;TZID=America/Toronto:20241206T210000
DTSTAMP:20260424T233222
CREATED:20241124T122937Z
LAST-MODIFIED:20241124T122937Z
UID:9105-1733511600-1733518800@glowingginger.com
SUMMARY:Kristi's Private Workshop
DESCRIPTION:It’s Kristi’s Birthday and we’re going to celebrate with an evening of socializing\, laughter and creativity!! Please join us for a fun night of sign painting with Kimberly from Glowing Ginger Sign Co.  \nSelect from 4 holiday project choices. All signs are (32″ x 10″ size) $85\n1. Let it snow – snowman\n2. Gnome\n3. Nutcracker\n4. Christmas Tree \nTo Register:\n1. Fill out the contact form below and let me know your project choice.\n2. Please email payment to kimberly.silvestri@gmail.com\n3. Confirmation email will be sent
URL:https://glowingginger.com/event/kristis-private-workshop/
ATTACH;FMTTYPE=image/png:https://glowingginger.com/wp-content/uploads/2024/11/Untitled-design-2.png
END:VEVENT
END:VCALENDAR